BEGIN:VCALENDAR
VERSION:2.0
PRODID:-//Lara Swimming Club - ECPv4.9.13//NONSGML v1.0//EN
CALSCALE:GREGORIAN
METHOD:PUBLISH
X-WR-CALNAME:Lara Swimming Club
X-ORIGINAL-URL:https://laraswimmingclub.com.au
X-WR-CALDESC:Events for Lara Swimming Club
BEGIN:VTIMEZONE
TZID:Australia/Melbourne
BEGIN:STANDARD
TZOFFSETFROM:+1100
TZOFFSETTO:+1000
TZNAME:AEST
DTSTART:20200404T160000
END:STANDARD
BEGIN:DAYLIGHT
TZOFFSETFROM:+1000
TZOFFSETTO:+1100
TZNAME:AEDT
DTSTART:20201003T160000
END:DAYLIGHT
END:VTIMEZONE
BEGIN:VEVENT
DTSTART;TZID=Australia/Melbourne:20200216T080000
DTEND;TZID=Australia/Melbourne:20200216T150000
DTSTAMP:20200228T164538
CREATED:20200107T001502Z
LAST-MODIFIED:20200107T001502Z
UID:2139-1581840000-1581865200@laraswimmingclub.com.au
SUMMARY:Lara Swimming Club All Abilities Encouragement Meet
DESCRIPTION:Enter here \nSee more information on our website\n \n
URL:https://laraswimmingclub.com.au/event/lara-swimming-club-all-abilities-encouragement-meet/
LOCATION:Lara Aquatic Centre\, Bank St\, Lara
ORGANIZER;CN="Mary%20Voss":MAILTO:laraentries@gmail.com
END:VEVENT
END:VCALENDAR